BEGIN:VCALENDAR
VERSION:2.0
PRODID:-//Archäologische Gesellschaft in Hessen e.V. - ECPv6.15.20//NONSGML v1.0//EN
CALSCALE:GREGORIAN
METHOD:PUBLISH
X-ORIGINAL-URL:https://www.aghessen.de
X-WR-CALDESC:Veranstaltungen für Archäologische Gesellschaft in Hessen e.V.
REFRESH-INTERVAL;VALUE=DURATION:PT1H
X-Robots-Tag:noindex
X-PUBLISHED-TTL:PT1H
BEGIN:VTIMEZONE
TZID:Europe/Berlin
BEGIN:DAYLIGHT
TZOFFSETFROM:+0100
TZOFFSETTO:+0200
TZNAME:CEST
DTSTART:20230326T010000
END:DAYLIGHT
BEGIN:STANDARD
TZOFFSETFROM:+0200
TZOFFSETTO:+0100
TZNAME:CET
DTSTART:20231029T010000
END:STANDARD
BEGIN:DAYLIGHT
TZOFFSETFROM:+0100
TZOFFSETTO:+0200
TZNAME:CEST
DTSTART:20240331T010000
END:DAYLIGHT
BEGIN:STANDARD
TZOFFSETFROM:+0200
TZOFFSETTO:+0100
TZNAME:CET
DTSTART:20241027T010000
END:STANDARD
BEGIN:DAYLIGHT
TZOFFSETFROM:+0100
TZOFFSETTO:+0200
TZNAME:CEST
DTSTART:20250330T010000
END:DAYLIGHT
BEGIN:STANDARD
TZOFFSETFROM:+0200
TZOFFSETTO:+0100
TZNAME:CET
DTSTART:20251026T010000
END:STANDARD
END:VTIMEZONE
BEGIN:VEVENT
DTSTART;TZID=Europe/Berlin:20241210T190000
DTEND;TZID=Europe/Berlin:20241210T203000
DTSTAMP:20260420T215234
CREATED:20241105T194938Z
LAST-MODIFIED:20241207T075208Z
UID:8120-1733857200-1733862600@www.aghessen.de
SUMMARY:Die Anfänge der Burg auf dem Marburger Schlossberg.
DESCRIPTION:Am 10.12.24 wird Dr. Christa Meiborg\, hessenARCHÄOLOGIE\, über die „Die Anfänge der Burg auf dem Marburger Schlossberg“ berichten. Grundlage hierfür sind Ergebnisse der Ausgrabungen in den Jahren 1989 und 1990 vor dem Hintergrund neuerer Untersuchungen. Keimzelle der Anlage auf dem Marburger Schlossberg war ein rechteckiger Bau – das „Feste Haus“ – \, dessen Westwand teilweise noch bis in eine Höhe von vier Metern erhalten ist. Vergleiche etwa zur Burg Querfurt lassen vermuten\, dass es im 11. Jahrhundert oder frühen 12. Jahrhundert errichtet wurde. \nFür die Teilnahme folgen Sie bitte diesem Link: \nhttps://lecture.senfcall.de/vol-yaq-lfg-wl1 \nDer Raum ist ab ca. 18:45 Uhr geöffnet\, so dass kleinere technische Probleme ggf. noch geklärt werden können. \n 
URL:https://www.aghessen.de/event/8120/
LOCATION:Onlinevortrag
CATEGORIES:Vortrag online
ATTACH;FMTTYPE=image/jpeg:https://www.aghessen.de/wp-content/uploads/2024/08/Abb.1.jpg
ORGANIZER;CN="AGiH":MAILTO:info@aghessen.de
END:VEVENT
END:VCALENDAR