BEGIN:VCALENDAR
VERSION:2.0
PRODID:-//Archäologische Gesellschaft in Hessen e.V. - ECPv6.15.20//NONSGML v1.0//EN
CALSCALE:GREGORIAN
METHOD:PUBLISH
X-ORIGINAL-URL:https://www.aghessen.de
X-WR-CALDESC:Veranstaltungen für Archäologische Gesellschaft in Hessen e.V.
REFRESH-INTERVAL;VALUE=DURATION:PT1H
X-Robots-Tag:noindex
X-PUBLISHED-TTL:PT1H
BEGIN:VTIMEZONE
TZID:Europe/Berlin
BEGIN:DAYLIGHT
TZOFFSETFROM:+0100
TZOFFSETTO:+0200
TZNAME:CEST
DTSTART:20250330T010000
END:DAYLIGHT
BEGIN:STANDARD
TZOFFSETFROM:+0200
TZOFFSETTO:+0100
TZNAME:CET
DTSTART:20251026T010000
END:STANDARD
BEGIN:DAYLIGHT
TZOFFSETFROM:+0100
TZOFFSETTO:+0200
TZNAME:CEST
DTSTART:20260329T010000
END:DAYLIGHT
BEGIN:STANDARD
TZOFFSETFROM:+0200
TZOFFSETTO:+0100
TZNAME:CET
DTSTART:20261025T010000
END:STANDARD
BEGIN:DAYLIGHT
TZOFFSETFROM:+0100
TZOFFSETTO:+0200
TZNAME:CEST
DTSTART:20270328T010000
END:DAYLIGHT
BEGIN:STANDARD
TZOFFSETFROM:+0200
TZOFFSETTO:+0100
TZNAME:CET
DTSTART:20271031T010000
END:STANDARD
END:VTIMEZONE
BEGIN:VEVENT
DTSTART;TZID=Europe/Berlin:20260210T190000
DTEND;TZID=Europe/Berlin:20260210T203000
DTSTAMP:20260420T052930
CREATED:20260112T164451Z
LAST-MODIFIED:20260115T115128Z
UID:8673-1770750000-1770755400@www.aghessen.de
SUMMARY:De retibus nummorum. Die Vernetzung der spätkeltischen Welt am Beispiel der Münzwirtschaft
DESCRIPTION:De retibus nummorum. Die Vernetzung der spätkeltischen Welt am Beispiel der Münzwirtschaft \n(Prof. Dr. Caroline von Nicolai und Markus Möller M. A.\, Universität Leipzig) \nWie helfen uns Münzen und deren Verbreitung prähistorische Wirtschaftsräume besser zu verstehen? Das Projekt „De Retibus Nummorum“\, das an den Universitäten Leipzig und Frankfurt angesiedelt ist\, hat sich zum Ziel gesetzt\, diesen Fragen anhand von keltischen Münzen des 3. bis 1. Jh. v. Chr. aus Deutschland\, Österreich\, der Schweiz\, Tschechien und Ostfrankreich nachzugehen. Hessen kommt dabei eine Sonderrolle zu. \nFür die Teilnahme folgen Sie bitte diesem Link: https://lecture.senfcall.de/vol-yaq-lfg-wl1 \nDer Raum ist ab ca. 18:45 Uhr geöffnet. \n 
URL:https://www.aghessen.de/event/de-retibus-nummorum-die-vernetzung-der-spaetkeltischen-welt-am-beispiel-der-muenzwirtschaft/
LOCATION:Onlinevortrag
CATEGORIES:Vortrag online
ATTACH;FMTTYPE=image/jpeg:https://www.aghessen.de/wp-content/uploads/2026/01/DeReNum.jpg
ORGANIZER;CN="AGiH":MAILTO:info@aghessen.de
END:VEVENT
END:VCALENDAR