BEGIN:VCALENDAR
VERSION:2.0
PRODID:-//Archäologische Gesellschaft in Hessen e.V. - ECPv6.15.20//NONSGML v1.0//EN
CALSCALE:GREGORIAN
METHOD:PUBLISH
X-ORIGINAL-URL:https://www.aghessen.de
X-WR-CALDESC:Veranstaltungen für Archäologische Gesellschaft in Hessen e.V.
REFRESH-INTERVAL;VALUE=DURATION:PT1H
X-Robots-Tag:noindex
X-PUBLISHED-TTL:PT1H
BEGIN:VTIMEZONE
TZID:Europe/Berlin
BEGIN:DAYLIGHT
TZOFFSETFROM:+0100
TZOFFSETTO:+0200
TZNAME:CEST
DTSTART:20240331T010000
END:DAYLIGHT
BEGIN:STANDARD
TZOFFSETFROM:+0200
TZOFFSETTO:+0100
TZNAME:CET
DTSTART:20241027T010000
END:STANDARD
BEGIN:DAYLIGHT
TZOFFSETFROM:+0100
TZOFFSETTO:+0200
TZNAME:CEST
DTSTART:20250330T010000
END:DAYLIGHT
BEGIN:STANDARD
TZOFFSETFROM:+0200
TZOFFSETTO:+0100
TZNAME:CET
DTSTART:20251026T010000
END:STANDARD
BEGIN:DAYLIGHT
TZOFFSETFROM:+0100
TZOFFSETTO:+0200
TZNAME:CEST
DTSTART:20260329T010000
END:DAYLIGHT
BEGIN:STANDARD
TZOFFSETFROM:+0200
TZOFFSETTO:+0100
TZNAME:CET
DTSTART:20261025T010000
END:STANDARD
END:VTIMEZONE
BEGIN:VEVENT
DTSTART;TZID=Europe/Berlin:20250404T130000
DTEND;TZID=Europe/Berlin:20250404T170000
DTSTAMP:20260420T185340
CREATED:20250310T145656Z
LAST-MODIFIED:20250310T150128Z
UID:8335-1743771600-1743786000@www.aghessen.de
SUMMARY:Eschwege - Tag der offenen Grabung
DESCRIPTION:Eschwege – Nikolaiplatz \nDie geplante Neugestaltung des Nikolaiplatzes vor dem gleichnamigen Turm in Eschwege bietet einen einmaligen Blick in die Stadtgeschichte. Vor über 400 Jahren wurde die zum Turm gehörige Kirche im Rahmen der Reformation abgerissen\, nur der Turm blieb den Eschwegern erhalten und ist heute das wichtigste Wahrzeichen der Stadt. Um den Bürgerinnen und Bürgern einen Einblick in das kurze Fenster in die Stadtvergangenheit zu ermöglichen\, veranstaltet die hessenARCHÄOLOGIE gemeinsam mit der Stadt Eschwege und der Grabungsfirma Warneke Archäologie GmbH am 04. April 2025 von 13:00 bis 17:00 einen Tag der offenen Grabung. \nWeiterführende Informationen finden Sie unter: \nhttps://denkmal.hessen.de/presse/die-verlorene-kirche-des-nikolaiturms \nhttps://denkmal.hessen.de/von-uns/veranstaltungen-und-fortbildungen/aktuelle-termine/tag-der-offenen-grabung-in-eschwege
URL:https://www.aghessen.de/event/eschwege-tag-der-offenen-grabung/
LOCATION:Eschwege\, Nikolaiplatz\, Eschwege\, Hessen\, 37269\, Germany
CATEGORIES:Tag der offenen Grabung
ATTACH;FMTTYPE=image/jpeg:https://www.aghessen.de/wp-content/uploads/2025/03/eschwege_nikolaiplatz_presse_kurella_18_2_25_12.jpg
END:VEVENT
END:VCALENDAR