BEGIN:VCALENDAR
VERSION:2.0
PRODID:-//Archäologische Gesellschaft in Hessen e.V. - ECPv6.15.20//NONSGML v1.0//EN
CALSCALE:GREGORIAN
METHOD:PUBLISH
X-WR-CALNAME:Archäologische Gesellschaft in Hessen e.V.
X-ORIGINAL-URL:https://www.aghessen.de
X-WR-CALDESC:Veranstaltungen für Archäologische Gesellschaft in Hessen e.V.
REFRESH-INTERVAL;VALUE=DURATION:PT1H
X-Robots-Tag:noindex
X-PUBLISHED-TTL:PT1H
BEGIN:VTIMEZONE
TZID:Europe/Berlin
BEGIN:DAYLIGHT
TZOFFSETFROM:+0100
TZOFFSETTO:+0200
TZNAME:CEST
DTSTART:20250330T010000
END:DAYLIGHT
BEGIN:STANDARD
TZOFFSETFROM:+0200
TZOFFSETTO:+0100
TZNAME:CET
DTSTART:20251026T010000
END:STANDARD
BEGIN:DAYLIGHT
TZOFFSETFROM:+0100
TZOFFSETTO:+0200
TZNAME:CEST
DTSTART:20260329T010000
END:DAYLIGHT
BEGIN:STANDARD
TZOFFSETFROM:+0200
TZOFFSETTO:+0100
TZNAME:CET
DTSTART:20261025T010000
END:STANDARD
BEGIN:DAYLIGHT
TZOFFSETFROM:+0100
TZOFFSETTO:+0200
TZNAME:CEST
DTSTART:20270328T010000
END:DAYLIGHT
BEGIN:STANDARD
TZOFFSETFROM:+0200
TZOFFSETTO:+0100
TZNAME:CET
DTSTART:20271031T010000
END:STANDARD
END:VTIMEZONE
BEGIN:VEVENT
DTSTART;TZID=Europe/Berlin:20260310T190000
DTEND;TZID=Europe/Berlin:20260310T203000
DTSTAMP:20260420T041026
CREATED:20241205T053334Z
LAST-MODIFIED:20251120T125224Z
UID:8182-1773169200-1773174600@www.aghessen.de
SUMMARY:„... in castro Stouphenberch ...“ - Erste archäologische Einblicke in die Frühgeschichte der Burg Staufenberg in Hessen
DESCRIPTION:Ferenc Kantor\, Volker Hess und Dr. Sandra Sosnowski präsentieren neue Erkenntnisse zur baulichen Entwicklung der Oberburg Staufenberg. Sie sind das Ergebnis einer archäologischen Ausgrabung am „Palas“ der Oberburg\, die eine komplexe Baugeschichte vom 12. bis zum 17. Jahrhundert offenbarte. Neben der Analyse mehrerer Mauerzüge und eines Zerstörungshorizonts aus dem Dreißigjährigen Krieg (1618–1648) werden bemerkenswerte Funde vorgestellt\, darunter Keramik\, Eisenobjekte und Architekturelemente. Die Befunde gewähren neue Einblicke in die Entwicklung dieser zeitweilig bedeutenden mittelalterlichen Burganlage. \nFür die Teilnahme folgen Sie bitte diesem Link: https://lecture.senfcall.de/vol-yaq-lfg-wl1 \nDer Raum ist ab ca. 18:45 Uhr geöffnet. \n 
URL:https://www.aghessen.de/event/in-castro-stouphenberch-erste-archaeologische-einblicke-in-die-fruehgeschichte-von-burg-staufenberg-in-hessen/
LOCATION:Onlinevortrag
CATEGORIES:Vortrag online
ATTACH;FMTTYPE=image/jpeg:https://www.aghessen.de/wp-content/uploads/2024/12/2024-404_AGiH_Titelbild-scaled.jpg
ORGANIZER;CN="AGiH":MAILTO:info@aghessen.de
END:VEVENT
END:VCALENDAR