BEGIN:VCALENDAR
VERSION:2.0
PRODID:-//Archäologische Gesellschaft in Hessen e.V. - ECPv6.15.20//NONSGML v1.0//EN
CALSCALE:GREGORIAN
METHOD:PUBLISH
X-WR-CALNAME:Archäologische Gesellschaft in Hessen e.V.
X-ORIGINAL-URL:https://www.aghessen.de
X-WR-CALDESC:Veranstaltungen für Archäologische Gesellschaft in Hessen e.V.
REFRESH-INTERVAL;VALUE=DURATION:PT1H
X-Robots-Tag:noindex
X-PUBLISHED-TTL:PT1H
BEGIN:VTIMEZONE
TZID:Europe/Berlin
BEGIN:DAYLIGHT
TZOFFSETFROM:+0100
TZOFFSETTO:+0200
TZNAME:CEST
DTSTART:20240331T010000
END:DAYLIGHT
BEGIN:STANDARD
TZOFFSETFROM:+0200
TZOFFSETTO:+0100
TZNAME:CET
DTSTART:20241027T010000
END:STANDARD
BEGIN:DAYLIGHT
TZOFFSETFROM:+0100
TZOFFSETTO:+0200
TZNAME:CEST
DTSTART:20250330T010000
END:DAYLIGHT
BEGIN:STANDARD
TZOFFSETFROM:+0200
TZOFFSETTO:+0100
TZNAME:CET
DTSTART:20251026T010000
END:STANDARD
BEGIN:DAYLIGHT
TZOFFSETFROM:+0100
TZOFFSETTO:+0200
TZNAME:CEST
DTSTART:20260329T010000
END:DAYLIGHT
BEGIN:STANDARD
TZOFFSETFROM:+0200
TZOFFSETTO:+0100
TZNAME:CET
DTSTART:20261025T010000
END:STANDARD
END:VTIMEZONE
BEGIN:VEVENT
DTSTART;VALUE=DATE:20251018
DTEND;VALUE=DATE:20251020
DTSTAMP:20260420T090110
CREATED:20251003T162408Z
LAST-MODIFIED:20251003T162408Z
UID:8533-1760745600-1760918399@www.aghessen.de
SUMMARY:hessenARCHÄOLOGIE-Tag 2025 in Weilburg
DESCRIPTION:Der diesjährige hessenARCHÄOLOGIE-Tag findet am 18. Oktober 2025 in Weilburg statt. Weitere Infos und das Programm finden sie hier. in der Mittagspause führt die AGiH Mitgliederversammlung durch. Am 19.10.2025 bietet die AGiH eine Exkursion (Kosten 20 €) zur nahegelegenen hochmittelalterliche Burgruine Merenberg und zur keltischen Höhensiedlung Almerskopf an. nach einem gemeinsamen Mittagressen (Eigenzahlung) findet eine Führung durch das Weilburger Schloss statt.
URL:https://www.aghessen.de/event/hessenarchaeologie-tag-2025-in-weilburg/
CATEGORIES:AGiH-Mitgliederversammlung,Das könnte Sie auch interessieren!
END:VEVENT
END:VCALENDAR