BEGIN:VCALENDAR
VERSION:2.0
PRODID:-//Archäologische Gesellschaft in Hessen e.V. - ECPv6.15.20//NONSGML v1.0//EN
CALSCALE:GREGORIAN
METHOD:PUBLISH
X-ORIGINAL-URL:https://www.aghessen.de
X-WR-CALDESC:Veranstaltungen für Archäologische Gesellschaft in Hessen e.V.
REFRESH-INTERVAL;VALUE=DURATION:PT1H
X-Robots-Tag:noindex
X-PUBLISHED-TTL:PT1H
BEGIN:VTIMEZONE
TZID:Europe/Berlin
BEGIN:DAYLIGHT
TZOFFSETFROM:+0100
TZOFFSETTO:+0200
TZNAME:CEST
DTSTART:20250330T010000
END:DAYLIGHT
BEGIN:STANDARD
TZOFFSETFROM:+0200
TZOFFSETTO:+0100
TZNAME:CET
DTSTART:20251026T010000
END:STANDARD
BEGIN:DAYLIGHT
TZOFFSETFROM:+0100
TZOFFSETTO:+0200
TZNAME:CEST
DTSTART:20260329T010000
END:DAYLIGHT
BEGIN:STANDARD
TZOFFSETFROM:+0200
TZOFFSETTO:+0100
TZNAME:CET
DTSTART:20261025T010000
END:STANDARD
BEGIN:DAYLIGHT
TZOFFSETFROM:+0100
TZOFFSETTO:+0200
TZNAME:CEST
DTSTART:20270328T010000
END:DAYLIGHT
BEGIN:STANDARD
TZOFFSETFROM:+0200
TZOFFSETTO:+0100
TZNAME:CET
DTSTART:20271031T010000
END:STANDARD
END:VTIMEZONE
BEGIN:VEVENT
DTSTART;TZID=Europe/Berlin:20260213T170000
DTEND;TZID=Europe/Berlin:20260213T190000
DTSTAMP:20260420T060949
CREATED:20260114T153718Z
LAST-MODIFIED:20260115T115035Z
UID:8680-1771002000-1771009200@www.aghessen.de
SUMMARY:Buchvorstellung: Das Marburger Schloss von der Höhenburg zur Residenz
DESCRIPTION:Die Buchvorstellung des neuesten Doppelbandes aus der Reihe der Materialien zur Vor- und Frühgeschichte lässt im prächtigen Marburger Fürstensaal die spannenden Ausgrabungen unter dem Westsaal des Landgrafenschlosses wieder aufleben. Bis in acht Meter Tiefe folgte das Grabungsteam den Spuren der Burganlage zu deren Wurzeln im 9./10. Jahrhundert. \nEntdecken Sie die Geschichte des Marburger Landgrafenschlosses mit Führungen\, Vorträgen und Musik. \nAlle Infos\, Programm und Anmeldung unter: https://denkmal.hessen.de/buchvorstellung-marburger-schloss
URL:https://www.aghessen.de/event/buchvorstellung-das-marburger-schloss-von-der-hoehenburg-zur-residenz/
CATEGORIES:Das könnte Sie auch interessieren!
ATTACH;FMTTYPE=image/png:https://www.aghessen.de/wp-content/uploads/2026/01/Bildschirmfoto-vom-2026-01-14-16-28-52.png
END:VEVENT
END:VCALENDAR